Package: phyloseq Version: 1.53.0 Command: /Library/Frameworks/R.framework/Resources/bin/R CMD build --keep-empty-dirs --no-resave-data phyloseq StartedAt: 2025-05-07 17:55:50 -0400 (Wed, 07 May 2025) EndedAt: 2025-05-07 17:57:48 -0400 (Wed, 07 May 2025) EllapsedTime: 117.7 seconds RetCode: 0 Status: OK PackageFile: phyloseq_1.53.0.tar.gz PackageFileSize: 6.046 MiB