Package: phyloseq Version: 1.53.0 Command: rm -rf phyloseq.buildbin-libdir && mkdir phyloseq.buildbin-libdir && /Users/biocbuild/BBS/utils/build-universal.sh phyloseq_1.53.0.tar.gz /Library/Frameworks/R.framework/Resources/bin/R phyloseq.buildbin-libdir StartedAt: 2025-05-08 00:58:05 -0400 (Thu, 08 May 2025) EndedAt: 2025-05-08 00:58:48 -0400 (Thu, 08 May 2025) EllapsedTime: 42.5 seconds RetCode: 0 Status: OK PackageFile: phyloseq_1.53.0.tgz PackageFileSize: 6.379 MiB