Package: phyloseq Version: 1.53.0 Command: /Library/Frameworks/R.framework/Resources/bin/R CMD build --keep-empty-dirs --no-resave-data phyloseq StartedAt: 2025-05-09 17:21:28 -0400 (Fri, 09 May 2025) EndedAt: 2025-05-09 17:22:09 -0400 (Fri, 09 May 2025) EllapsedTime: 41.6 seconds RetCode: 1 Status: ERROR PackageFile: None PackageFileSize: NA