Package: philr Version: 1.35.0 Command: /home/biocbuild/bbs-3.22-bioc/R/bin/R CMD INSTALL philr StartedAt: 2025-10-07 15:10:08 -0400 (Tue, 07 Oct 2025) EndedAt: 2025-10-07 15:10:20 -0400 (Tue, 07 Oct 2025) EllapsedTime: 12.1 seconds RetCode: 0 Status: OK