Package: philr Version: 1.35.0 Command: /home/biocbuild/bbs-3.22-bioc/R/bin/R CMD build --keep-empty-dirs --no-resave-data --md5 philr StartedAt: 2025-10-07 19:21:23 -0400 (Tue, 07 Oct 2025) EndedAt: 2025-10-07 19:22:03 -0400 (Tue, 07 Oct 2025) EllapsedTime: 40.0 seconds RetCode: 0 Status: OK PackageFile: philr_1.35.0.tar.gz PackageFileSize: 533.6 KiB