Package: phenopath Version: 1.31.0 Command: /home/biocbuild/bbs-3.21-bioc/R/bin/R CMD build --keep-empty-dirs --no-resave-data phenopath StartedAt: 2025-02-21 19:03:01 -0500 (Fri, 21 Feb 2025) EndedAt: 2025-02-21 19:03:50 -0500 (Fri, 21 Feb 2025) EllapsedTime: 49.1 seconds RetCode: 0 Status: OK PackageFile: phenopath_1.31.0.tar.gz PackageFileSize: 1.334 MiB