Package: phenopath Version: 1.33.0 Command: rm -rf phenopath.buildbin-libdir && mkdir phenopath.buildbin-libdir && /Users/biocbuild/BBS/utils/build-universal.sh phenopath_1.33.0.tar.gz /Library/Frameworks/R.framework/Resources/bin/R phenopath.buildbin-libdir StartedAt: 2025-10-04 02:21:09 -0400 (Sat, 04 Oct 2025) EndedAt: 2025-10-04 02:21:55 -0400 (Sat, 04 Oct 2025) EllapsedTime: 46.3 seconds RetCode: 0 Status: OK PackageFile: phenopath_1.33.0.tgz PackageFileSize: 1.013 MiB