Package: phenopath Version: 1.31.0 Command: /Library/Frameworks/R.framework/Resources/bin/R CMD INSTALL phenopath StartedAt: 2025-02-21 15:05:50 -0500 (Fri, 21 Feb 2025) EndedAt: 2025-02-21 15:06:02 -0500 (Fri, 21 Feb 2025) EllapsedTime: 11.8 seconds RetCode: 0 Status: OK