Package: phenomis Version: 1.11.0 Command: /home/biocbuild/bbs-3.22-bioc/R/bin/R CMD INSTALL phenomis StartedAt: 2025-10-17 15:29:55 -0400 (Fri, 17 Oct 2025) EndedAt: 2025-10-17 15:30:35 -0400 (Fri, 17 Oct 2025) EllapsedTime: 40.0 seconds RetCode: 0 Status: OK