Package: phenomis Version: 1.11.0 Command: /home/biocbuild/bbs-3.22-bioc/R/bin/R CMD build --keep-empty-dirs --no-resave-data --md5 phenomis StartedAt: 2025-10-17 19:14:31 -0400 (Fri, 17 Oct 2025) EndedAt: 2025-10-17 19:15:59 -0400 (Fri, 17 Oct 2025) EllapsedTime: 88.1 seconds RetCode: 0 Status: OK PackageFile: phenomis_1.11.0.tar.gz PackageFileSize: 3.982 MiB