Package: phenoTest Version: 1.57.0 Command: /home/biocbuild/bbs-3.22-bioc/R/bin/R CMD INSTALL phenoTest StartedAt: 2025-10-03 15:28:59 -0400 (Fri, 03 Oct 2025) EndedAt: 2025-10-03 15:29:35 -0400 (Fri, 03 Oct 2025) EllapsedTime: 35.3 seconds RetCode: 0 Status: OK