Package: phenoTest Version: 1.57.0 Command: /home/biocbuild/bbs-3.22-bioc/R/bin/R CMD build --keep-empty-dirs --no-resave-data --md5 phenoTest StartedAt: 2025-10-03 19:16:09 -0400 (Fri, 03 Oct 2025) EndedAt: 2025-10-03 19:17:03 -0400 (Fri, 03 Oct 2025) EllapsedTime: 54.1 seconds RetCode: 0 Status: OK PackageFile: phenoTest_1.57.0.tar.gz PackageFileSize: 1.275 MiB