Package: phantasusLite Version: 1.7.0 Command: /home/biocbuild/bbs-3.22-bioc/R/bin/R CMD INSTALL phantasusLite StartedAt: 2025-10-03 15:57:35 -0400 (Fri, 03 Oct 2025) EndedAt: 2025-10-03 15:57:53 -0400 (Fri, 03 Oct 2025) EllapsedTime: 17.5 seconds RetCode: 0 Status: OK