Package: phantasus Version: 1.29.0 Command: /home/biocbuild/bbs-3.22-bioc/R/bin/R CMD INSTALL phantasus StartedAt: 2025-10-14 15:59:45 -0400 (Tue, 14 Oct 2025) EndedAt: 2025-10-14 16:00:20 -0400 (Tue, 14 Oct 2025) EllapsedTime: 35.5 seconds RetCode: 0 Status: OK