Package: phantasus Version: 1.29.0 Command: /home/biocbuild/bbs-3.22-bioc/R/bin/R CMD build --keep-empty-dirs --no-resave-data --md5 phantasus StartedAt: 2025-10-14 19:17:53 -0400 (Tue, 14 Oct 2025) EndedAt: 2025-10-14 19:18:33 -0400 (Tue, 14 Oct 2025) EllapsedTime: 40.1 seconds RetCode: 0 Status: OK PackageFile: phantasus_1.29.0.tar.gz PackageFileSize: 9.55 MiB