Package: pgxRpi Version: 1.3.2 Command: E:\biocbuild\bbs-3.21-bioc\R\bin\R.exe CMD check --no-multiarch --install=check:pgxRpi.install-out.txt --library=E:\biocbuild\bbs-3.21-bioc\R\library --no-vignettes --timings pgxRpi_1.3.2.tar.gz StartedAt: 2025-02-05 04:28:14 -0500 (Wed, 05 Feb 2025) EndedAt: 2025-02-05 04:35:47 -0500 (Wed, 05 Feb 2025) EllapsedTime: 453.2 seconds RetCode: 0 Status: OK CheckDir: pgxRpi.Rcheck Warnings: 0