Package: pgxRpi Version: 1.3.2 Command: rm -rf pgxRpi.buildbin-libdir && mkdir pgxRpi.buildbin-libdir && E:\biocbuild\bbs-3.21-bioc\R\bin\R.exe CMD INSTALL --build --library=pgxRpi.buildbin-libdir pgxRpi_1.3.2.tar.gz StartedAt: 2025-02-10 08:22:16 -0500 (Mon, 10 Feb 2025) EndedAt: 2025-02-10 08:22:38 -0500 (Mon, 10 Feb 2025) EllapsedTime: 22.1 seconds RetCode: 0 Status: OK PackageFile: pgxRpi_1.3.2.zip PackageFileSize: 1.313 MiB