Package: pgxRpi Version: 1.3.2 Command: /home/biocbuild/bbs-3.21-bioc/R/bin/R CMD check --install=check:pgxRpi.install-out.txt --library=/home/biocbuild/bbs-3.21-bioc/R/site-library --timings pgxRpi_1.3.2.tar.gz StartedAt: 2025-02-05 01:23:22 -0500 (Wed, 05 Feb 2025) EndedAt: 2025-02-05 01:39:48 -0500 (Wed, 05 Feb 2025) EllapsedTime: 986.3 seconds RetCode: 1 Status: ERROR CheckDir: pgxRpi.Rcheck Warnings: NA