Package: pgxRpi Version: 1.3.2 Command: /home/biocbuild/bbs-3.21-bioc/R/bin/R CMD build --keep-empty-dirs --no-resave-data pgxRpi StartedAt: 2025-02-04 18:36:38 -0500 (Tue, 04 Feb 2025) EndedAt: 2025-02-04 18:46:40 -0500 (Tue, 04 Feb 2025) EllapsedTime: 601.8 seconds RetCode: 0 Status: OK PackageFile: pgxRpi_1.3.2.tar.gz PackageFileSize: 2.788 MiB