Package: pgxRpi Version: 1.3.2 Command: /home/biocbuild/R/R/bin/R CMD check --install=check:pgxRpi.install-out.txt --library=/home/biocbuild/R/R/site-library --no-vignettes --timings pgxRpi_1.3.2.tar.gz StartedAt: 2025-01-28 13:51:37 -0000 (Tue, 28 Jan 2025) EndedAt: 2025-01-28 14:00:38 -0000 (Tue, 28 Jan 2025) EllapsedTime: 540.6 seconds RetCode: 1 Status: ERROR CheckDir: pgxRpi.Rcheck Warnings: NA