Package: pgxRpi Version: 1.3.2 Command: /home/biocbuild/R/R/bin/R CMD build --keep-empty-dirs --no-resave-data pgxRpi StartedAt: 2025-01-29 01:15:35 -0000 (Wed, 29 Jan 2025) EndedAt: 2025-01-29 01:20:24 -0000 (Wed, 29 Jan 2025) EllapsedTime: 288.2 seconds RetCode: 1 Status: ERROR PackageFile: None PackageFileSize: NA