Package: pgca Version: 1.31.0 Command: E:\biocbuild\bbs-3.21-bioc\R\bin\R.exe CMD INSTALL pgca StartedAt: 2025-02-03 15:33:11 -0500 (Mon, 03 Feb 2025) EndedAt: 2025-02-03 15:33:35 -0500 (Mon, 03 Feb 2025) EllapsedTime: 24.2 seconds RetCode: 0 Status: OK