Package: pgca Version: 1.31.0 Command: chmod a+r pgca -R && E:\biocbuild\bbs-3.21-bioc\R\bin\R.exe CMD build --keep-empty-dirs --no-resave-data pgca StartedAt: 2025-02-03 20:55:50 -0500 (Mon, 03 Feb 2025) EndedAt: 2025-02-03 20:56:02 -0500 (Mon, 03 Feb 2025) EllapsedTime: 12.0 seconds RetCode: 0 Status: OK PackageFile: pgca_1.31.0.tar.gz PackageFileSize: 217 KiB