Package: pgca Version: 1.31.0 Command: rm -rf pgca.buildbin-libdir && mkdir pgca.buildbin-libdir && E:\biocbuild\bbs-3.21-bioc\R\bin\R.exe CMD INSTALL --build --library=pgca.buildbin-libdir pgca_1.31.0.tar.gz StartedAt: 2025-02-04 08:35:13 -0500 (Tue, 04 Feb 2025) EndedAt: 2025-02-04 08:35:22 -0500 (Tue, 04 Feb 2025) EllapsedTime: 8.3 seconds RetCode: 0 Status: OK PackageFile: pgca_1.31.0.zip PackageFileSize: 149.7 KiB