Package: pgca Version: 1.31.0 Command: /Library/Frameworks/R.framework/Resources/bin/R CMD INSTALL pgca StartedAt: 2025-02-03 15:09:30 -0500 (Mon, 03 Feb 2025) EndedAt: 2025-02-03 15:10:11 -0500 (Mon, 03 Feb 2025) EllapsedTime: 40.9 seconds RetCode: 0 Status: OK