Package: pgca Version: 1.31.0 Command: /home/biocbuild/R/R/bin/R CMD build --keep-empty-dirs --no-resave-data pgca StartedAt: 2025-01-29 01:15:35 -0000 (Wed, 29 Jan 2025) EndedAt: 2025-01-29 01:15:41 -0000 (Wed, 29 Jan 2025) EllapsedTime: 6.0 seconds RetCode: 0 Status: OK PackageFile: pgca_1.31.0.tar.gz PackageFileSize: 217.4 KiB