Package: periodicDNA Version: 1.17.0 Command: /Library/Frameworks/R.framework/Resources/bin/R CMD build --keep-empty-dirs --no-resave-data periodicDNA StartedAt: 2025-02-16 17:43:12 -0500 (Sun, 16 Feb 2025) EndedAt: 2025-02-16 17:45:00 -0500 (Sun, 16 Feb 2025) EllapsedTime: 107.4 seconds RetCode: 0 Status: OK PackageFile: periodicDNA_1.17.0.tar.gz PackageFileSize: 2.962 MiB