Package: periodicDNA Version: 1.17.0 Command: /home/biocbuild/R/R/bin/R CMD INSTALL periodicDNA StartedAt: 2025-01-29 19:57:47 -0000 (Wed, 29 Jan 2025) EndedAt: 2025-01-29 19:58:33 -0000 (Wed, 29 Jan 2025) EllapsedTime: 46.3 seconds RetCode: 0 Status: OK