Package: pepXMLTab Version: 1.43.0 Command: /home/biocbuild/R/R/bin/R CMD INSTALL pepXMLTab StartedAt: 2025-10-13 20:31:45 -0000 (Mon, 13 Oct 2025) EndedAt: 2025-10-13 20:32:08 -0000 (Mon, 13 Oct 2025) EllapsedTime: 22.8 seconds RetCode: 0 Status: OK