Package: pepStat Version: 1.43.0 Command: /home/biocbuild/bbs-3.22-bioc/R/bin/R CMD INSTALL pepStat StartedAt: 2025-10-01 15:18:22 -0400 (Wed, 01 Oct 2025) EndedAt: 2025-10-01 15:18:42 -0400 (Wed, 01 Oct 2025) EllapsedTime: 19.3 seconds RetCode: 0 Status: OK