Package: pepStat Version: 1.43.0 Command: /home/biocbuild/bbs-3.22-bioc/R/bin/R CMD build --keep-empty-dirs --no-resave-data --md5 pepStat StartedAt: 2025-10-01 19:38:09 -0400 (Wed, 01 Oct 2025) EndedAt: 2025-10-01 19:39:05 -0400 (Wed, 01 Oct 2025) EllapsedTime: 56.1 seconds RetCode: 0 Status: OK PackageFile: pepStat_1.43.0.tar.gz PackageFileSize: 321.8 KiB