Package: pengls Version: 1.15.1 Command: chmod a+r pengls -R && F:\biocbuild\bbs-3.22-bioc\R\bin\R.exe CMD build --keep-empty-dirs --no-resave-data pengls StartedAt: 2025-08-14 22:15:54 -0400 (Thu, 14 Aug 2025) EndedAt: 2025-08-14 22:21:42 -0400 (Thu, 14 Aug 2025) EllapsedTime: 347.7 seconds RetCode: 0 Status: OK PackageFile: pengls_1.15.1.tar.gz PackageFileSize: 25.76 KiB