Package: pengls Version: 1.15.1 Command: rm -rf pengls.buildbin-libdir && mkdir pengls.buildbin-libdir && F:\biocbuild\bbs-3.22-bioc\R\bin\R.exe CMD INSTALL --build --library=pengls.buildbin-libdir pengls_1.15.1.tar.gz StartedAt: 2025-08-15 10:56:14 -0400 (Fri, 15 Aug 2025) EndedAt: 2025-08-15 10:56:32 -0400 (Fri, 15 Aug 2025) EllapsedTime: 18.0 seconds RetCode: 0 Status: OK PackageFile: pengls_1.15.1.zip PackageFileSize: 64.02 KiB