Package: pengls Version: 1.15.0 Maintainer: Stijn Hawinkel MaintainerEmail: stijn.hawinkel at psb.ugent.be git_url: https://git.bioconductor.org/packages/pengls git_branch: devel git_last_commit: 0712af3 git_last_commit_date: 2025-04-15 12:42:44 -0400 (Tue, 15 Apr 2025)