Package: peco Version: 1.19.0 Command: E:\biocbuild\bbs-3.21-bioc\R\bin\R.exe CMD INSTALL peco StartedAt: 2025-02-18 16:47:22 -0500 (Tue, 18 Feb 2025) EndedAt: 2025-02-18 16:47:57 -0500 (Tue, 18 Feb 2025) EllapsedTime: 35.2 seconds RetCode: 0 Status: OK