Package: peco Version: 1.19.0 Command: rm -rf peco.buildbin-libdir && mkdir peco.buildbin-libdir && E:\biocbuild\bbs-3.21-bioc\R\bin\R.exe CMD INSTALL --build --library=peco.buildbin-libdir peco_1.19.0.tar.gz StartedAt: 2025-02-19 08:03:44 -0500 (Wed, 19 Feb 2025) EndedAt: 2025-02-19 08:04:23 -0500 (Wed, 19 Feb 2025) EllapsedTime: 39.1 seconds RetCode: 0 Status: OK PackageFile: peco_1.19.0.zip PackageFileSize: 1.089 MiB