Package: peakPantheR Version: 1.23.3 Command: /home/biocbuild/bbs-3.22-bioc/R/bin/R CMD INSTALL peakPantheR StartedAt: 2025-10-06 15:42:10 -0400 (Mon, 06 Oct 2025) EndedAt: 2025-10-06 15:42:20 -0400 (Mon, 06 Oct 2025) EllapsedTime: 10.4 seconds RetCode: 0 Status: OK