Package: peakPantheR Version: 1.25.0 Command: /home/biocbuild/bbs-3.23-bioc/R/bin/R CMD INSTALL peakPantheR StartedAt: 2025-11-21 15:43:26 -0500 (Fri, 21 Nov 2025) EndedAt: 2025-11-21 15:43:37 -0500 (Fri, 21 Nov 2025) EllapsedTime: 10.7 seconds RetCode: 0 Status: OK