Package: peakPantheR Version: 1.23.3 Command: /Library/Frameworks/R.framework/Resources/bin/R CMD INSTALL peakPantheR StartedAt: 2025-10-27 15:22:34 -0400 (Mon, 27 Oct 2025) EndedAt: 2025-10-27 15:22:39 -0400 (Mon, 27 Oct 2025) EllapsedTime: 4.5 seconds RetCode: 0 Status: OK