Package: peakPantheR Version: 1.23.3 Command: /Library/Frameworks/R.framework/Resources/bin/R CMD build --keep-empty-dirs --no-resave-data peakPantheR StartedAt: 2025-10-27 17:19:10 -0400 (Mon, 27 Oct 2025) EndedAt: 2025-10-27 17:20:00 -0400 (Mon, 27 Oct 2025) EllapsedTime: 49.6 seconds RetCode: 0 Status: OK PackageFile: peakPantheR_1.23.3.tar.gz PackageFileSize: 3.956 MiB