Package: peakPantheR Version: 1.23.3 Command: rm -rf peakPantheR.buildbin-libdir && mkdir peakPantheR.buildbin-libdir && /Users/biocbuild/BBS/utils/build-universal.sh peakPantheR_1.23.3.tar.gz /Library/Frameworks/R.framework/Resources/bin/R peakPantheR.buildbin-libdir StartedAt: 2025-10-27 23:13:18 -0400 (Mon, 27 Oct 2025) EndedAt: 2025-10-27 23:13:23 -0400 (Mon, 27 Oct 2025) EllapsedTime: 5.1 seconds RetCode: 0 Status: OK PackageFile: peakPantheR_1.23.3.tgz PackageFileSize: 3.05 MiB