Package: peakCombiner Version: 0.99.603 Command: /home/biocbuild/bbs-3.22-bioc/R/bin/R CMD INSTALL peakCombiner StartedAt: 2025-10-24 15:25:52 -0400 (Fri, 24 Oct 2025) EndedAt: 2025-10-24 15:25:57 -0400 (Fri, 24 Oct 2025) EllapsedTime: 4.4 seconds RetCode: 0 Status: OK