Package: peakCombiner Version: 0.99.603 Command: /home/biocbuild/bbs-3.22-bioc/R/bin/R CMD build --keep-empty-dirs --no-resave-data --md5 peakCombiner StartedAt: 2025-10-24 19:24:49 -0400 (Fri, 24 Oct 2025) EndedAt: 2025-10-24 19:25:26 -0400 (Fri, 24 Oct 2025) EllapsedTime: 37.0 seconds RetCode: 0 Status: OK PackageFile: peakCombiner_0.99.603.tar.gz PackageFileSize: 356.4 KiB