Package: peakCombiner Version: 1.1.0 Command: /Library/Frameworks/R.framework/Resources/bin/R CMD INSTALL peakCombiner StartedAt: 2025-11-21 15:21:49 -0500 (Fri, 21 Nov 2025) EndedAt: 2025-11-21 15:21:56 -0500 (Fri, 21 Nov 2025) EllapsedTime: 6.8 seconds RetCode: 0 Status: OK