Package: peakCombiner Version: 1.1.0 Command: /Library/Frameworks/R.framework/Resources/bin/R CMD build --keep-empty-dirs --no-resave-data peakCombiner StartedAt: 2025-11-21 18:09:29 -0500 (Fri, 21 Nov 2025) EndedAt: 2025-11-21 18:10:32 -0500 (Fri, 21 Nov 2025) EllapsedTime: 63.4 seconds RetCode: 0 Status: OK PackageFile: peakCombiner_1.1.0.tar.gz PackageFileSize: 367.9 KiB