Package: peakCombiner Version: 1.1.0 Command: rm -rf peakCombiner.buildbin-libdir && mkdir peakCombiner.buildbin-libdir && /Users/biocbuild/BBS/utils/build-universal.sh peakCombiner_1.1.0.tar.gz /Library/Frameworks/R.framework/Resources/bin/R peakCombiner.buildbin-libdir StartedAt: 2025-11-22 01:49:09 -0500 (Sat, 22 Nov 2025) EndedAt: 2025-11-22 01:49:20 -0500 (Sat, 22 Nov 2025) EllapsedTime: 10.4 seconds RetCode: 0 Status: OK PackageFile: peakCombiner_1.1.0.tgz PackageFileSize: 450.9 KiB