Package: peakCombiner Version: 0.99.603 Command: /Library/Frameworks/R.framework/Resources/bin/R CMD INSTALL peakCombiner StartedAt: 2025-10-24 15:13:12 -0400 (Fri, 24 Oct 2025) EndedAt: 2025-10-24 15:13:14 -0400 (Fri, 24 Oct 2025) EllapsedTime: 2.3 seconds RetCode: 0 Status: OK