Package: peakCombiner Version: 0.99.603 Command: /Library/Frameworks/R.framework/Resources/bin/R CMD build --keep-empty-dirs --no-resave-data peakCombiner StartedAt: 2025-10-24 17:20:26 -0400 (Fri, 24 Oct 2025) EndedAt: 2025-10-24 17:20:41 -0400 (Fri, 24 Oct 2025) EllapsedTime: 15.2 seconds RetCode: 0 Status: OK PackageFile: peakCombiner_0.99.603.tar.gz PackageFileSize: 368.3 KiB