Package: peakCombiner Version: 0.99.603 Command: rm -rf peakCombiner.buildbin-libdir && mkdir peakCombiner.buildbin-libdir && /Users/biocbuild/BBS/utils/build-universal.sh peakCombiner_0.99.603.tar.gz /Library/Frameworks/R.framework/Resources/bin/R peakCombiner.buildbin-libdir StartedAt: 2025-10-24 23:13:49 -0400 (Fri, 24 Oct 2025) EndedAt: 2025-10-24 23:13:52 -0400 (Fri, 24 Oct 2025) EllapsedTime: 3.1 seconds RetCode: 0 Status: OK PackageFile: peakCombiner_0.99.603.tgz PackageFileSize: 452.6 KiB