Package: pdInfoBuilder Version: 1.75.0 Command: rm -rf pdInfoBuilder.buildbin-libdir && mkdir pdInfoBuilder.buildbin-libdir && /Users/biocbuild/BBS/utils/build-universal.sh pdInfoBuilder_1.75.0.tar.gz /Library/Frameworks/R.framework/Resources/bin/R pdInfoBuilder.buildbin-libdir StartedAt: 2025-11-18 07:15:19 -0500 (Tue, 18 Nov 2025) EndedAt: 2025-11-18 07:16:10 -0500 (Tue, 18 Nov 2025) EllapsedTime: 51.0 seconds RetCode: 0 Status: OK PackageFile: pdInfoBuilder_1.75.0.tgz PackageFileSize: 821.9 KiB